BEGIN:VCALENDAR
VERSION:2.0
PRODID:-//hacksw/handcal//NONSGML v1.0//EN
BEGIN:VEVENT
SUMMARY:10km d'Avranches
UID:241cd850-600f-4cc5-9946-9af2bcbb839c
DTSTART:20260328T230000Z
DTEND:20260329T230000Z
LOCATION:Localisation   
CATEGORIES:Sportif
STATUS:
URL;VALUE=URI:https://asb-94-course-a-pied.sportsregions.fr/evenements/2026/03/29/10km-davranches-2436772
END:VEVENT
END:VCALENDAR
